BEGIN:VCALENDAR
VERSION:2.0
PRODID:-//Lady Colors - ECPv6.15.17.1//NONSGML v1.0//EN
CALSCALE:GREGORIAN
METHOD:PUBLISH
X-WR-CALNAME:Lady Colors
X-ORIGINAL-URL:https://www.ladycolors.sk
X-WR-CALDESC:Udalosti pre Lady Colors
REFRESH-INTERVAL;VALUE=DURATION:PT1H
X-Robots-Tag:noindex
X-PUBLISHED-TTL:PT1H
BEGIN:VTIMEZONE
TZID:Europe/Bratislava
BEGIN:DAYLIGHT
TZOFFSETFROM:+0100
TZOFFSETTO:+0200
TZNAME:CEST
DTSTART:20250330T010000
END:DAYLIGHT
BEGIN:STANDARD
TZOFFSETFROM:+0200
TZOFFSETTO:+0100
TZNAME:CET
DTSTART:20251026T010000
END:STANDARD
BEGIN:DAYLIGHT
TZOFFSETFROM:+0100
TZOFFSETTO:+0200
TZNAME:CEST
DTSTART:20260329T010000
END:DAYLIGHT
BEGIN:STANDARD
TZOFFSETFROM:+0200
TZOFFSETTO:+0100
TZNAME:CET
DTSTART:20261025T010000
END:STANDARD
BEGIN:DAYLIGHT
TZOFFSETFROM:+0100
TZOFFSETTO:+0200
TZNAME:CEST
DTSTART:20270328T010000
END:DAYLIGHT
BEGIN:STANDARD
TZOFFSETFROM:+0200
TZOFFSETTO:+0100
TZNAME:CET
DTSTART:20271031T010000
END:STANDARD
END:VTIMEZONE
BEGIN:VEVENT
DTSTART;TZID=Europe/Bratislava:20261127T200000
DTEND;TZID=Europe/Bratislava:20261127T230000
DTSTAMP:20260425T145917
CREATED:20251218T152448Z
LAST-MODIFIED:20260107T213700Z
UID:936-1795809600-1795820400@www.ladycolors.sk
SUMMARY:Lady Colors Rock Orchestra\, Stars Auditorium
DESCRIPTION:
URL:https://www.ladycolors.sk/event/lady-colors-rock-orchestra-stars-auditorium/
END:VEVENT
END:VCALENDAR