BEGIN:VCALENDAR
VERSION:2.0
PRODID:-//Lady Colors - ECPv6.15.17.1//NONSGML v1.0//EN
CALSCALE:GREGORIAN
METHOD:PUBLISH
X-WR-CALNAME:Lady Colors
X-ORIGINAL-URL:https://www.ladycolors.sk
X-WR-CALDESC:Udalosti pre Lady Colors
REFRESH-INTERVAL;VALUE=DURATION:PT1H
X-Robots-Tag:noindex
X-PUBLISHED-TTL:PT1H
BEGIN:VTIMEZONE
TZID:Europe/Bratislava
BEGIN:DAYLIGHT
TZOFFSETFROM:+0100
TZOFFSETTO:+0200
TZNAME:CEST
DTSTART:20250330T010000
END:DAYLIGHT
BEGIN:STANDARD
TZOFFSETFROM:+0200
TZOFFSETTO:+0100
TZNAME:CET
DTSTART:20251026T010000
END:STANDARD
BEGIN:DAYLIGHT
TZOFFSETFROM:+0100
TZOFFSETTO:+0200
TZNAME:CEST
DTSTART:20260329T010000
END:DAYLIGHT
BEGIN:STANDARD
TZOFFSETFROM:+0200
TZOFFSETTO:+0100
TZNAME:CET
DTSTART:20261025T010000
END:STANDARD
BEGIN:DAYLIGHT
TZOFFSETFROM:+0100
TZOFFSETTO:+0200
TZNAME:CEST
DTSTART:20270328T010000
END:DAYLIGHT
BEGIN:STANDARD
TZOFFSETFROM:+0200
TZOFFSETTO:+0100
TZNAME:CET
DTSTART:20271031T010000
END:STANDARD
END:VTIMEZONE
BEGIN:VEVENT
DTSTART;TZID=Europe/Bratislava:20260207T190000
DTEND;TZID=Europe/Bratislava:20260208T003000
DTSTAMP:20260426T021143
CREATED:20251218T183301Z
LAST-MODIFIED:20251218T204916Z
UID:1039-1770490800-1770510600@www.ladycolors.sk
SUMMARY:Ples\, kaštieľ Pálfy\, Svätý Jur
DESCRIPTION:
URL:https://www.ladycolors.sk/event/silvester-s-lady-colors-family-resort-lucivna/
END:VEVENT
END:VCALENDAR